BEGIN:VCALENDAR
VERSION:2.0
PRODID:gruene-lk-leipzig.de
METHOD:PUBLISH
BEGIN:VTIMEZONE
TZID:Europe/Berlin
X-LIC-LOCATION:Europe/Berlin
BEGIN:DAYLIGHT
TZOFFSETFROM:+0100
TZOFFSETTO:+0200
TZNAME:CEST
DTSTART:19700329T020000
RRULE:FREQ=YEARLY;INTERVAL=1;BYDAY=-1SU;BYMONTH=3
END:DAYLIGHT
BEGIN:STANDARD
TZOFFSETFROM:+0200
TZOFFSETTO:+0100
TZNAME:CET
DTSTART:19701025T030000
RRULE:FREQ=YEARLY;INTERVAL=1;BYDAY=-1SU;BYMONTH=10
END:STANDARD
END:VTIMEZONE
BEGIN:VEVENT
UID:a5415b5ffe786202cc26d6e25659c33a@gruene-lk-leipzig.de
URL;VALUE=URI:https://gruene-lk-leipzig.de/termine/wahlinfostand-mit-unse
 rem-kandidaten-matthias-vialon/
LOCATION:Marktplatz, Marktplatz, Grimma
SUMMARY:Wahlinfostand mit unserem Kandidaten Matthias Vialon
DESCRIPTION;ALTREP="data:text/html,%0A%3Cp%3E%23BTW21%3C%2Fp%3E%0A":#BTW2
 1
CLASS:PUBLIC
DTSTART;TZID=Europe/Berlin:20210902T100000
DTEND;TZID=Europe/Berlin:20210902T140000
DTSTAMP:20260421T095736
END:VEVENT
END:VCALENDAR